BEGIN:VCALENDAR
VERSION:2.0
PRODID:-//BioPartner Leiden - ECPv6.15.20//NONSGML v1.0//EN
CALSCALE:GREGORIAN
METHOD:PUBLISH
X-WR-CALNAME:BioPartner Leiden
X-ORIGINAL-URL:https://www.biopartnerleiden.nl
X-WR-CALDESC:Events for BioPartner Leiden
REFRESH-INTERVAL;VALUE=DURATION:PT1H
X-Robots-Tag:noindex
X-PUBLISHED-TTL:PT1H
BEGIN:VTIMEZONE
TZID:Europe/Amsterdam
BEGIN:DAYLIGHT
TZOFFSETFROM:+0100
TZOFFSETTO:+0200
TZNAME:CEST
DTSTART:20240331T010000
END:DAYLIGHT
BEGIN:STANDARD
TZOFFSETFROM:+0200
TZOFFSETTO:+0100
TZNAME:CET
DTSTART:20241027T010000
END:STANDARD
BEGIN:DAYLIGHT
TZOFFSETFROM:+0100
TZOFFSETTO:+0200
TZNAME:CEST
DTSTART:20250330T010000
END:DAYLIGHT
BEGIN:STANDARD
TZOFFSETFROM:+0200
TZOFFSETTO:+0100
TZNAME:CET
DTSTART:20251026T010000
END:STANDARD
BEGIN:DAYLIGHT
TZOFFSETFROM:+0100
TZOFFSETTO:+0200
TZNAME:CEST
DTSTART:20260329T010000
END:DAYLIGHT
BEGIN:STANDARD
TZOFFSETFROM:+0200
TZOFFSETTO:+0100
TZNAME:CET
DTSTART:20261025T010000
END:STANDARD
END:VTIMEZONE
BEGIN:VEVENT
DTSTART;TZID=Europe/Amsterdam:20250424T163000
DTEND;TZID=Europe/Amsterdam:20250424T180000
DTSTAMP:20260420T073958
CREATED:20241203T095923Z
LAST-MODIFIED:20250410T111618Z
UID:19401-1745512200-1745517600@www.biopartnerleiden.nl
SUMMARY:Bitterballen Borrel BP5
DESCRIPTION:
URL:https://www.biopartnerleiden.nl/evenementen/bitterballen-borrel-bp5-4/
END:VEVENT
BEGIN:VEVENT
DTSTART;TZID=Europe/Amsterdam:20250422T114500
DTEND;TZID=Europe/Amsterdam:20250422T131500
DTSTAMP:20260420T073958
CREATED:20250303T100635Z
LAST-MODIFIED:20250410T111618Z
UID:19527-1745322300-1745327700@www.biopartnerleiden.nl
SUMMARY:Lunch & Learn: Train your Brain to work under pressure
DESCRIPTION:Every month\, BioPartner hosts a Lunch & Learn session: We provide lunch and an expert speaker\, and you’ll learn about a topic of your interest! \nUp in April: 🚀 Train your brain to work under pressure – With Winnifred NoorlanderRegistration on Bundeling or mail to the Service Desk.
URL:https://www.biopartnerleiden.nl/evenementen/lunch-learn-train-your-brain-to-work-under-pressure/
LOCATION:Biopartner 1\, Auditorium
END:VEVENT
END:VCALENDAR